BEGIN:VCALENDAR
VERSION:2.0
PRODID:-//wp-events-plugin.com//7.2.3.1//EN
TZID:Europe/Berlin
X-WR-TIMEZONE:Europe/Berlin
BEGIN:VEVENT
UID:5862@worldcleanupday.de
DTSTART;TZID=Europe/Berlin:20240920T093000
DTEND;TZID=Europe/Berlin:20240920T123000
DTSTAMP:20240731T132843Z
URL:https://www.worldcleanupday.de/veranstaltungen/clever-cleaning-wir-rae
 umen-auf-bayern/
SUMMARY:Clever cleaning - Wir räumen auf! (Bayern)
DESCRIPTION:Clever cleaning - SportBrain räumt auf\nGemeinsam wollen wir z
 um World Cleanup Day mit allen Mitarbeitenden sowie Interessierten Mitläu
 fer:innen aus Gersthofen die Geh/Radwege beidseitig zwischen Gersthofen un
 d Augsburg (bis TSG Sportplatz) von herumliegendem Müll befreien.\n\nTref
 fpunkt: 9:30 Uhr an der Lechbrücke Gersthofen (Lech-Statue)\n\nEnde: ca. 
 12:30 Uhr\n\n&nbsp\;\n\n#worldcleanupmachtschule #worldcleanupday2024
ATTACH;FMTTYPE=image/jpeg:https://www.worldcleanupday.de/wp-content/upload
 s/2023/12/2024_WCD_Bayern_03.jpg
CATEGORIES:World Cleanup Day
LOCATION:Lechwege (Gersthofen bis Augsburg)\, Hery Park 3000\, Gersthofen\,
  Bayern\, 86368\, Augsburg Land (Schwaben)\, Deutschland
GEO:48.423827;10.86472
X-APPLE-STRUCTURED-LOCATION;VALUE=URI;X-ADDRESS=Hery Park 3000\, Gersthofen
 \, Bayern\, 86368\, Augsburg Land (Schwaben)\, Deutschland;X-APPLE-RADIUS=
 100;X-TITLE=Lechwege (Gersthofen bis Augsburg):geo:48.423827,10.86472
END:VEVENT
BEGIN:VTIMEZONE
TZID:Europe/Berlin
X-LIC-LOCATION:Europe/Berlin
BEGIN:DAYLIGHT
DTSTART:20240331T030000
TZOFFSETFROM:+0100
TZOFFSETTO:+0200
TZNAME:CEST
END:DAYLIGHT
END:VTIMEZONE
END:VCALENDAR