BEGIN:VCALENDAR
VERSION:2.0
PRODID:-//wp-events-plugin.com//7.2.3.1//EN
TZID:Europe/Berlin
X-WR-TIMEZONE:Europe/Berlin
BEGIN:VEVENT
UID:3308@worldcleanupday.de
DTSTART;TZID=Europe/Berlin:20220917T100000
DTEND;TZID=Europe/Berlin:20220917T100000
DTSTAMP:20220906T201707Z
URL:https://www.worldcleanupday.de/veranstaltungen/cleanup-wolteritzer-str
 and-sachsen/
SUMMARY:Cleanup Wolteritzer Strand (Sachsen)
DESCRIPTION:Wir sind dabei am World Cleanup Day – 17. September 2022\n\nT
 reffpunkt: Parkplatz Wolteritzer Strand\n\nMüllbeutel sind vorhanden\n\nW
 enn vorhanden bitte mitbringen:\n\n- Handschuhe\n\n- Eimer für Zigaretten
 stummel\n\n- Greifzange\n\n#worldcleanupday #letsdoitgermany #deutschland 
 #sachsen
ATTACH;FMTTYPE=image/jpeg:https://www.worldcleanupday.de/wp-content/upload
 s/2022/06/2022_WCD_Bundesland_Sachsen_03.jpg
LOCATION:Wolteritzer Strand\, Wolteritzer Strand\, Wolteritz \, Sachsen\, 0
 4435\, Schkeuditz \, Deutschland
GEO:51.447944;12.336598
X-APPLE-STRUCTURED-LOCATION;VALUE=URI;X-ADDRESS=Wolteritzer Strand\, Wolter
 itz \, Sachsen\, 04435\, Schkeuditz \, Deutschland;X-APPLE-RADIUS=100;X-TI
 TLE=Wolteritzer Strand:geo:51.447944,12.336598
END:VEVENT
BEGIN:VTIMEZONE
TZID:Europe/Berlin
X-LIC-LOCATION:Europe/Berlin
BEGIN:DAYLIGHT
DTSTART:20220327T030000
TZOFFSETFROM:+0100
TZOFFSETTO:+0200
TZNAME:CEST
END:DAYLIGHT
END:VTIMEZONE
END:VCALENDAR