BEGIN:VCALENDAR
VERSION:2.0
PRODID:-//wp-events-plugin.com//7.2.3.1//EN
TZID:Europe/Berlin
X-WR-TIMEZONE:Europe/Berlin
BEGIN:VEVENT
UID:3160@worldcleanupday.de
DTSTART;TZID=Europe/Berlin:20220916T080000
DTEND;TZID=Europe/Berlin:20220916T130000
DTSTAMP:20220902T102519Z
URL:https://www.worldcleanupday.de/veranstaltungen/cleanup-realschule-bram
 sche-niedersachsen/
SUMMARY:Cleanup Realschule Bramsche (Niedersachsen)
DESCRIPTION:Unsere Schule macht mit am World Cleanup day 2022.\n\n#worldcle
 anupday #letsdoitgermany #deutschland #niedersachsen
ATTACH;FMTTYPE=image/jpeg:https://www.worldcleanupday.de/wp-content/upload
 s/2022/08/WCD_m_S-Organisator_stehend_ganze_Schule.jpg
LOCATION:Cleanup RS Bramsche\, Heinrichstr. 7\, Bramsche\, Niedersachsen\, 
 49565\, Deutschland
GEO:52.411618;7.981489
X-APPLE-STRUCTURED-LOCATION;VALUE=URI;X-ADDRESS=Heinrichstr. 7\, Bramsche\,
  Niedersachsen\, 49565\, Deutschland;X-APPLE-RADIUS=100;X-TITLE=Cleanup RS
  Bramsche:geo:52.411618,7.981489
END:VEVENT
BEGIN:VTIMEZONE
TZID:Europe/Berlin
X-LIC-LOCATION:Europe/Berlin
BEGIN:DAYLIGHT
DTSTART:20220327T030000
TZOFFSETFROM:+0100
TZOFFSETTO:+0200
TZNAME:CEST
END:DAYLIGHT
END:VTIMEZONE
END:VCALENDAR