BEGIN:VCALENDAR
VERSION:2.0
PRODID:-//wp-events-plugin.com//7.2.3.1//EN
TZID:Europe/Berlin
X-WR-TIMEZONE:Europe/Berlin
BEGIN:VEVENT
UID:2224@worldcleanupday.de
DTSTART;TZID=Europe/Berlin:20210918T100000
DTEND;TZID=Europe/Berlin:20210918T150000
DTSTAMP:20210923T153332Z
URL:https://www.worldcleanupday.de/veranstaltungen/cleanup-ratzeburg-schle
 swig-holstein/
SUMMARY:Cleanup Ratzeburg (Schleswig-Holstein)
DESCRIPTION:Wir machen mit am World Cleanup Day 2021!!!
ATTACH;FMTTYPE=image/jpeg:https://www.worldcleanupday.de/wp-content/upload
 s/2021/09/Cleanup-Ratzeburg-01.jpg
LOCATION:Ratzeburg\, Schrangenstr.\, Ratzeburg\, Schleswig-Holstein\, 23909
 \, Deutschland
GEO:53.698135;10.774394
X-APPLE-STRUCTURED-LOCATION;VALUE=URI;X-ADDRESS=Schrangenstr.\, Ratzeburg\,
  Schleswig-Holstein\, 23909\, Deutschland;X-APPLE-RADIUS=100;X-TITLE=Ratze
 burg:geo:53.698135,10.774394
END:VEVENT
BEGIN:VTIMEZONE
TZID:Europe/Berlin
X-LIC-LOCATION:Europe/Berlin
BEGIN:DAYLIGHT
DTSTART:20210328T030000
TZOFFSETFROM:+0100
TZOFFSETTO:+0200
TZNAME:CEST
END:DAYLIGHT
END:VTIMEZONE
END:VCALENDAR