BEGIN:VCALENDAR
VERSION:2.0
PRODID:-//wp-events-plugin.com//7.2.3.1//EN
TZID:Europe/Berlin
X-WR-TIMEZONE:Europe/Berlin
BEGIN:VEVENT
UID:1375@worldcleanupday.de
DTSTART;TZID=Europe/Berlin:20210918T110000
DTEND;TZID=Europe/Berlin:20210918T140000
DTSTAMP:20210904T142219Z
URL:https://www.worldcleanupday.de/veranstaltungen/cleanup-mit-einfachbuec
 ken_cologne-nordrhein-westfalen/
SUMMARY:Cleanup mit einfachbuecken_cologne (Nordrhein Westfalen)
DESCRIPTION:World Cleanup Day am 18.9.2021 und wir sind zum ersten Mal dabe
 i!\n\nWir wollen mit vielen Helfern in Lövenich sauber machen.\n\nWANN UN
 D WO?\n\nSamstag\, 18.9.2021\, von 11 - 14 Uhr. Treffpunkt ist der Spielpl
 atz an der St.-Georg-Straße.\n\nWIE LÄUFT´s?\nHandschuhe\, Greifer und 
 Müllsäcke halten wir für euch bereit. Ihr braucht also nichts weiter al
 s wetterfeste Kleidung\, stabiles Schuhwerk\, zur Ausgabe/Rückgabe der Ma
 terialien eine medizinische Maske\, eventuell Sonnenschutz und gute Laune!
  Wer einen Bollerwagen oder ähnliches besitzt kann diesen gerne mitbringe
 n\, um die gefüllten Säcke zum Sammelplatz zu transportieren.\n\nWir wer
 den in Lövenich an den Spielplätzen\, am Bahnhof\, an den großen Zufahr
 tstraßen und im Industriegebiet Kölner Straße sammeln.
ATTACH;FMTTYPE=image/jpeg:https://www.worldcleanupday.de/wp-content/upload
 s/2021/08/2021-Muellsammeln_web.jpg
LOCATION:Köln-Lövenich\, St.-Georg-Str. 12\, Köln-Lövenich\, NRW\, 5085
 9\, Deutschland
GEO:50.95052;6.826692
X-APPLE-STRUCTURED-LOCATION;VALUE=URI;X-ADDRESS=St.-Georg-Str. 12\, Köln-L
 övenich\, NRW\, 50859\, Deutschland;X-APPLE-RADIUS=100;X-TITLE=Köln-Löv
 enich:geo:50.95052,6.826692
END:VEVENT
BEGIN:VTIMEZONE
TZID:Europe/Berlin
X-LIC-LOCATION:Europe/Berlin
BEGIN:DAYLIGHT
DTSTART:20210328T030000
TZOFFSETFROM:+0100
TZOFFSETTO:+0200
TZNAME:CEST
END:DAYLIGHT
END:VTIMEZONE
END:VCALENDAR