BEGIN:VCALENDAR
VERSION:2.0
PRODID:-//wp-events-plugin.com//7.2.3.1//EN
TZID:Europe/Berlin
X-WR-TIMEZONE:Europe/Berlin
BEGIN:VEVENT
UID:9548@worldcleanupday.de
DTSTART;TZID=Europe/Berlin:20250920T103000
DTEND;TZID=Europe/Berlin:20250920T120000
DTSTAMP:20250911T163236Z
URL:https://www.worldcleanupday.de/veranstaltungen/cleanup-industriering-o
 st-kempen-nrw/
SUMMARY:Cleanup Industriering Ost Kempen (NRW)
DESCRIPTION:World Cleanup Day 2025 - DNX4 Kempen\n&nbsp\;\n\nDie Welt räum
 t auf und DNX4 macht mit! #worldcleanupday2025\n\nWann: 20.09.2025 um 10:3
 0 Uhr\nWo: Industriering Ost 93\, 47906 Kempen\nWie: Müllsäcke\, Handsch
 uhe\, Warnweste und Greifzangen gibt es bei uns.\n\n&nbsp\;\n\n&nbsp\;
ATTACH;FMTTYPE=image/jpeg:https://www.worldcleanupday.de/wp-content/upload
 s/2024/11/2025_WCD_NRW_03.jpg
CATEGORIES:World Cleanup Day
LOCATION:Amazon DNX4\, Industriering Ost 93\, Kempen\, NRW\, 47906\, Deutsc
 hland
GEO:51.377005;6.42674
X-APPLE-STRUCTURED-LOCATION;VALUE=URI;X-ADDRESS=Industriering Ost 93\, Kemp
 en\, NRW\, 47906\, Deutschland;X-APPLE-RADIUS=100;X-TITLE=Amazon DNX4:geo:
 51.377005,6.42674
END:VEVENT
BEGIN:VTIMEZONE
TZID:Europe/Berlin
X-LIC-LOCATION:Europe/Berlin
BEGIN:DAYLIGHT
DTSTART:20250330T030000
TZOFFSETFROM:+0100
TZOFFSETTO:+0200
TZNAME:CEST
END:DAYLIGHT
END:VTIMEZONE
END:VCALENDAR