BEGIN:VCALENDAR
VERSION:2.0
PRODID:-//wp-events-plugin.com//7.2.3.1//EN
TZID:Europe/Berlin
X-WR-TIMEZONE:Europe/Berlin
BEGIN:VEVENT
UID:9772@worldcleanupday.de
DTSTART;TZID=Europe/Berlin:20250920T100000
DTEND;TZID=Europe/Berlin:20250920T120000
DTSTAMP:20250917T185732Z
URL:https://www.worldcleanupday.de/veranstaltungen/cleanup-in-diedorf-baye
 rn/
SUMMARY:Cleanup in Diedorf (Bayern)
DESCRIPTION:Am World Cleanup Day wollen wir als Gruppe in Diedorf gemeinsam
  anpacken und die Umwelt ein Stück sauberer machen. Dieser Aktionstag ist
  eine weltweite Bewegung\, bei der Menschen aus allen Ecken der Erde zusam
 menkommen\, um Müll zu sammeln und so das Bewusstsein für den Umweltschu
 tz zu stärken. Auch wir möchten einen Beitrag leisten und setzen uns daf
 ür ein\, unsere Gemeinde einladender und nachhaltiger zu gestalten. Jeder
  Helfer ist willkommen!
ATTACH;FMTTYPE=image/jpeg:https://www.worldcleanupday.de/wp-content/upload
 s/2024/11/2025_WCD_Bayern_07.jpg
CATEGORIES:World Cleanup Day
LOCATION:Bahnhof Diedorf\, Bahnhofstraße 12\, Diedorf\, Bayern\, 86420\, D
 eutschland
GEO:48.356268;10.777232
X-APPLE-STRUCTURED-LOCATION;VALUE=URI;X-ADDRESS=Bahnhofstraße 12\, Diedorf
 \, Bayern\, 86420\, Deutschland;X-APPLE-RADIUS=100;X-TITLE=Bahnhof Diedorf
 :geo:48.356268,10.777232
END:VEVENT
BEGIN:VTIMEZONE
TZID:Europe/Berlin
X-LIC-LOCATION:Europe/Berlin
BEGIN:DAYLIGHT
DTSTART:20250330T030000
TZOFFSETFROM:+0100
TZOFFSETTO:+0200
TZNAME:CEST
END:DAYLIGHT
END:VTIMEZONE
END:VCALENDAR