BEGIN:VCALENDAR
VERSION:2.0
PRODID:-//wp-events-plugin.com//7.2.3.1//EN
TZID:Europe/Berlin
X-WR-TIMEZONE:Europe/Berlin
BEGIN:VEVENT
UID:1312@worldcleanupday.de
DTSTART;TZID=Europe/Berlin:20210919T100000
DTEND;TZID=Europe/Berlin:20210919T130000
DTSTAMP:20210904T142222Z
URL:https://www.worldcleanupday.de/veranstaltungen/cleanup-in-bremen-am-wo
 rld-cleanup-day/
SUMMARY:Cleanup in Bremen (Bremen)
DESCRIPTION:Am Tag nach dem World Cleanup Day treffen wir uns vor der Filia
 le Posthausen 1\, 28870 Ottersberg. \n\nVeranstaltungsname: DECATHLON Pos
 thausen - für ein sauberes Spielfeld\n\nDECATHLON steht für Freude am Sp
 ort - von Sportler:innen für Sportler:innen. Der Planet ist unser Spielfe
 ld\, und das möchten wir sauber halten. Macht mit bei unserem [Ecowalk/Pl
 ogging] am 19.09.2021 um 10:00 bis 13:00! \n\nSchreibt uns an nachhaltigke
 it@decathlon.com\, und teilt uns mit an welchem unserer teilnehmenden DECA
 THLON Standort ihr mitmachen möchtet. Wir schicken euch dann den Anmeldeb
 ogen und alle notwendigen Informationen zu.\n\nWir freuen uns auf jede hel
 fende Hand! 
ATTACH;FMTTYPE=image/jpeg:https://www.worldcleanupday.de/wp-content/upload
 s/2021/05/2021-bremen-1024x1024-1.jpg
LOCATION:Posthausen\, Posthausen\, Ottersberg\, 28870\, Deutschland
GEO:53.0604;9.167418
X-APPLE-STRUCTURED-LOCATION;VALUE=URI;X-ADDRESS=Posthausen\, Ottersberg\, 2
 8870\, Deutschland;X-APPLE-RADIUS=100;X-TITLE=Posthausen:geo:53.0604,9.167
 418
END:VEVENT
BEGIN:VTIMEZONE
TZID:Europe/Berlin
X-LIC-LOCATION:Europe/Berlin
BEGIN:DAYLIGHT
DTSTART:20210328T030000
TZOFFSETFROM:+0100
TZOFFSETTO:+0200
TZNAME:CEST
END:DAYLIGHT
END:VTIMEZONE
END:VCALENDAR