BEGIN:VCALENDAR
VERSION:2.0
PRODID:-//wp-events-plugin.com//7.2.3.1//EN
TZID:Europe/Berlin
X-WR-TIMEZONE:Europe/Berlin
BEGIN:VEVENT
UID:4756@worldcleanupday.de
DTSTART;TZID=Europe/Berlin:20230916T100000
DTEND;TZID=Europe/Berlin:20230916T130000
DTSTAMP:20230815T135305Z
URL:https://www.worldcleanupday.de/veranstaltungen/cleanup-hilf-mit-unrat-
 zu-entfernen-brandenburg/
SUMMARY:CleanUp...Hilf Mit Unrat zu Entfernen (Brandenburg)
DESCRIPTION:Liebe Studis und Mitarbeiter*innen der HMU\,\n\nlasst uns die W
 elt ein wenig besser machen\, indem wir gemeinsam\, organisationsbedingt b
 ereits am 15.9. im Rahmen des World Cleanup Day wieder Müll sammeln. Wir 
 freuen uns auf zahlreiche Teilnehmer*innen. Im Anschluss gibt es noch eine
  kleine Stärkung vom Grill. \n\nGetreu nach dem Motto: Hilf Mit Unrat zu 
 Entfernen\n\n&nbsp\;\n\n#worldcleanupday #letsdoitgermany #brandenburg #le
 tsdoit\n\n&nbsp\;\n\n&nbsp\;
ATTACH;FMTTYPE=image/jpeg:https://www.worldcleanupday.de/wp-content/upload
 s/2023/08/IMG-20210917-WA0051.jpg
CATEGORIES:World Cleanup Day
LOCATION:Villa Carlshagen\, Olympischer Weg 1\, Potsdam \, Brandenburg\, 14
 471 \, Deutschland
GEO:52.380985;13.021002
X-APPLE-STRUCTURED-LOCATION;VALUE=URI;X-ADDRESS=Olympischer Weg 1\, Potsdam
  \, Brandenburg\, 14471 \, Deutschland;X-APPLE-RADIUS=100;X-TITLE=Villa Ca
 rlshagen:geo:52.380985,13.021002
END:VEVENT
BEGIN:VTIMEZONE
TZID:Europe/Berlin
X-LIC-LOCATION:Europe/Berlin
BEGIN:DAYLIGHT
DTSTART:20230326T030000
TZOFFSETFROM:+0100
TZOFFSETTO:+0200
TZNAME:CEST
END:DAYLIGHT
END:VTIMEZONE
END:VCALENDAR