BEGIN:VCALENDAR
VERSION:2.0
PRODID:-//wp-events-plugin.com//7.2.3.1//EN
TZID:Europe/Berlin
X-WR-TIMEZONE:Europe/Berlin
BEGIN:VEVENT
UID:10052@worldcleanupday.de
DTSTART;TZID=Europe/Berlin:20260918T150000
DTEND;TZID=Europe/Berlin:20260918T170000
DTSTAMP:20260423T064222Z
URL:https://www.worldcleanupday.de/veranstaltungen/cleanup-hamburg-2/
SUMMARY:Cleanup Hamburg
DESCRIPTION:Hanse-Service - -Logistics Cleanup\nWir planen mit ca. 25 Mitar
 beitern die Reinigung in der direkten Umgebung unseres Unternehmens\, insb
 esondere in den Grünstreifen zum Bahngelände und Fußwegen.
ATTACH;FMTTYPE=image/jpeg:https://www.worldcleanupday.de/wp-content/upload
 s/2026/02/event_WCD_hh_04.jpg
CATEGORIES:World Cleanup Day
LOCATION:\, \, 
GEO:53.503802;10.004779
X-APPLE-STRUCTURED-LOCATION;VALUE=URI;X-ADDRESS=\, ;X-APPLE-RADIUS=100;X-TI
 TLE=:geo:53.503802,10.004779
END:VEVENT
BEGIN:VTIMEZONE
TZID:Europe/Berlin
X-LIC-LOCATION:Europe/Berlin
BEGIN:DAYLIGHT
DTSTART:20260329T030000
TZOFFSETFROM:+0100
TZOFFSETTO:+0200
TZNAME:CEST
END:DAYLIGHT
END:VTIMEZONE
END:VCALENDAR