BEGIN:VCALENDAR
VERSION:2.0
PRODID:-//wp-events-plugin.com//7.2.3.1//EN
TZID:Europe/Berlin
X-WR-TIMEZONE:Europe/Berlin
BEGIN:VEVENT
UID:8111@worldcleanupday.de
DTSTART;TZID=Europe/Berlin:20250411T100000
DTEND;TZID=Europe/Berlin:20250411T120000
DTSTAMP:20250401T121130Z
URL:https://www.worldcleanupday.de/veranstaltungen/cleanup-bw-2/
SUMMARY:Cleanup (BW)
DESCRIPTION:World Cleanup macht Schule. Wir machen mit!\n\n&nbsp\;\n\n#worl
 dcleanupmachtschule
ATTACH;FMTTYPE=image/jpeg:https://www.worldcleanupday.de/wp-content/upload
 s/2024/11/2025_WCU_Schule_005.jpg
CATEGORIES:Schul-Cleanup
LOCATION:Schule Bösingen und Herrenzimmern\, Haslenstr. 7\, 78662 Bösinge
 n\, Deutschland
GEO:48.239939;8.560168
X-APPLE-STRUCTURED-LOCATION;VALUE=URI;X-ADDRESS=Haslenstr. 7\, 78662 Bösin
 gen\, Deutschland;X-APPLE-RADIUS=100;X-TITLE=Schule Bösingen und Herrenzi
 mmern:geo:48.239939,8.560168
END:VEVENT
BEGIN:VTIMEZONE
TZID:Europe/Berlin
X-LIC-LOCATION:Europe/Berlin
BEGIN:DAYLIGHT
DTSTART:20250330T030000
TZOFFSETFROM:+0100
TZOFFSETTO:+0200
TZNAME:CEST
END:DAYLIGHT
END:VTIMEZONE
END:VCALENDAR