BEGIN:VCALENDAR
VERSION:2.0
PRODID:-//wp-events-plugin.com//7.2.3.1//EN
TZID:Europe/Berlin
X-WR-TIMEZONE:Europe/Berlin
BEGIN:VEVENT
UID:3573@worldcleanupday.de
DTSTART;TZID=Europe/Berlin:20220917T080000
DTEND;TZID=Europe/Berlin:20220917T180000
DTSTAMP:20220913T180354Z
URL:https://www.worldcleanupday.de/veranstaltungen/cleanup-and-pimp-days-b
 randenburg/
SUMMARY:Cleanup and Pimp Days (Brandenburg)
DESCRIPTION:Cleanup &amp\; Pimp Days:\n\nFür den World Cleanup Day am 17.0
 9.2022 rufen wir euch auf\, vor eurer Haustür aufzuräumen. Sammelt einfa
 ch Müll in eurem Wohnbezirk und helft unsere Heimat schöner werden zu la
 ssen.\n\nAm 18.09.2022 treffen wir uns ab 10 Uhr zum Pimp Day in der Tanzs
 chule\, räumen ringsherum etwas auf und lassen alles neu erstrahlen.\n\nW
 ir freuen uns auf Euch. Anmeldung gern bei UNITED dancers \, Tel 0163 3262
  464\n\n#worldcleanupday #letsdoitgermany #deutschland #brandenburg
ATTACH;FMTTYPE=image/jpeg:https://www.worldcleanupday.de/wp-content/upload
 s/2022/06/2022_WCD_Bundesland_Brandenburg.jpg
LOCATION:Tanzschule Gertitschke und UNITED dancers\, Julius-Pintsch-Ring\, 
 11\, Fürstenwalde\, Brandenburg\, 15517\, Brandenburg\, Deutschland
GEO:52.368686;14.055009
X-APPLE-STRUCTURED-LOCATION;VALUE=URI;X-ADDRESS=Julius-Pintsch-Ring\, 11\, 
 Fürstenwalde\, Brandenburg\, 15517\, Brandenburg\, Deutschland;X-APPLE-RA
 DIUS=100;X-TITLE=Tanzschule Gertitschke und UNITED dancers:geo:52.368686,1
 4.055009
END:VEVENT
BEGIN:VTIMEZONE
TZID:Europe/Berlin
X-LIC-LOCATION:Europe/Berlin
BEGIN:DAYLIGHT
DTSTART:20220327T030000
TZOFFSETFROM:+0100
TZOFFSETTO:+0200
TZNAME:CEST
END:DAYLIGHT
END:VTIMEZONE
END:VCALENDAR