BEGIN:VCALENDAR
VERSION:2.0
PRODID:-//wp-events-plugin.com//7.2.3.1//EN
TZID:Europe/Berlin
X-WR-TIMEZONE:Europe/Berlin
BEGIN:VEVENT
UID:8783@worldcleanupday.de
DTSTART;TZID=Europe/Berlin:20250920T100000
DTEND;TZID=Europe/Berlin:20250920T123000
DTSTAMP:20250807T062736Z
URL:https://www.worldcleanupday.de/veranstaltungen/cleanup-an-der-landscha
 ftstreppe-im-schapa-bw/
SUMMARY:Cleanup an der Landschaftstreppe im Schapa (BW)
DESCRIPTION:Elektror Cleanup an der Landschaftstreppe im Schapa\n\nDie Land
 schaftstreppe ist das Herzstück des Scharnhauser Parks und zieht sich dur
 ch den ganzen Stadtteil. Wir wollen die Landschaftstreppe sauber halten un
 d deshalb dort weggeworfenen Müll aufsammeln.\n\nWir starten am Samstag\,
  den 20.09.25 um 10 Uhr vor unserem Elektror Firmengebäude in der Hellmut
 h-Hirth-Straße 2\, direkt an der Landschaftstreppe\, und legen los\, einm
 al von Süden nach Norden. Zur Stärkung für alle Sammelnden gibt es Brez
 eln und Getränke.
ATTACH;FMTTYPE=image/jpeg:https://www.worldcleanupday.de/wp-content/upload
 s/2024/11/2025_WCD_BW_05.jpg
CATEGORIES:World Cleanup Day
LOCATION:Cleanup an der Landschaftstreppe im Schapa\, Hellmuth-Hirth-Str. 2
 \, Ostfildern\, Baden-Württemberg\, 73670\, Deutschland
GEO:48.715771;9.272004
X-APPLE-STRUCTURED-LOCATION;VALUE=URI;X-ADDRESS=Hellmuth-Hirth-Str. 2\, Ost
 fildern\, Baden-Württemberg\, 73670\, Deutschland;X-APPLE-RADIUS=100;X-TI
 TLE=Cleanup an der Landschaftstreppe im Schapa:geo:48.715771,9.272004
END:VEVENT
BEGIN:VTIMEZONE
TZID:Europe/Berlin
X-LIC-LOCATION:Europe/Berlin
BEGIN:DAYLIGHT
DTSTART:20250330T030000
TZOFFSETFROM:+0100
TZOFFSETTO:+0200
TZNAME:CEST
END:DAYLIGHT
END:VTIMEZONE
END:VCALENDAR