BEGIN:VCALENDAR
VERSION:2.0
PRODID:-//wp-events-plugin.com//7.2.3.1//EN
TZID:Europe/Berlin
X-WR-TIMEZONE:Europe/Berlin
BEGIN:VEVENT
UID:6245@worldcleanupday.de
DTSTART;TZID=Europe/Berlin:20240923T090000
DTEND;TZID=Europe/Berlin:20240927T113000
DTSTAMP:20240617T082638Z
URL:https://www.worldcleanupday.de/veranstaltungen/clean-up-berlin-2/
SUMMARY:\\"Clean up\\" (Berlin)
DESCRIPTION:World Cleanup macht Schule. Wir sind dabei.\n\n&nbsp\;\n\n#worl
 dcleanupmachtschule
ATTACH;FMTTYPE=image/jpeg:https://www.worldcleanupday.de/wp-content/upload
 s/2023/12/2024_KITA_WCU_008.jpg
CATEGORIES:Kita-Cleanup
LOCATION:Kita Alt- Tempelhof\, Albrechtstrasse 106\, Berlin\, 12103\, Deuts
 chland
GEO:52.461071;13.378783
X-APPLE-STRUCTURED-LOCATION;VALUE=URI;X-ADDRESS=Albrechtstrasse 106\, Berli
 n\, 12103\, Deutschland;X-APPLE-RADIUS=100;X-TITLE=Kita Alt- Tempelhof:geo
 :52.461071,13.378783
END:VEVENT
BEGIN:VTIMEZONE
TZID:Europe/Berlin
X-LIC-LOCATION:Europe/Berlin
BEGIN:DAYLIGHT
DTSTART:20240331T030000
TZOFFSETFROM:+0100
TZOFFSETTO:+0200
TZNAME:CEST
END:DAYLIGHT
END:VTIMEZONE
END:VCALENDAR