BEGIN:VCALENDAR
VERSION:2.0
PRODID:-//wp-events-plugin.com//7.2.3.1//EN
TZID:Europe/Berlin
X-WR-TIMEZONE:Europe/Berlin
BEGIN:VEVENT
UID:6408@worldcleanupday.de
DTSTART;TZID=Europe/Berlin;VALUE=DATE:20241010
DTEND;TZID=Europe/Berlin;VALUE=DATE:20241012
DTSTAMP:20240619T081312Z
URL:https://www.worldcleanupday.de/veranstaltungen/clean-up-ak2030-gesa-nr
 w/
SUMMARY:Clean Up AK2030 GeSa (NRW)
DESCRIPTION:Wir\, das LehrerInnen-Team der 5. Klassen des neuen Schuljahres
 \, möchten mit unseren SchülerInnen unser Schulgelände\, sowie das umli
 egende Naturschutzgebiet und umliegende Wohngebiete von Müll befreien. Di
 e Aktion wird im Rahmen einer Projektwoche zum Thema Naturschutz durchgef
 ührt.\n\n&nbsp\;
ATTACH;FMTTYPE=image/jpeg:https://www.worldcleanupday.de/wp-content/upload
 s/2023/12/2024_WCU_Schule_013.jpg
CATEGORIES:Schul-Cleanup
LOCATION:Gesamtschule Salzkotten\, 16\, 33154 Salzkotten\, NRW\, 33154\, Kr
 eis Paderborn\, Deutschland
GEO:51.675244;8.596839
X-APPLE-STRUCTURED-LOCATION;VALUE=URI;X-ADDRESS=16\, 33154 Salzkotten\, NRW
 \, 33154\, Kreis Paderborn\, Deutschland;X-APPLE-RADIUS=100;X-TITLE=Gesamt
 schule Salzkotten:geo:51.675244,8.596839
END:VEVENT
BEGIN:VTIMEZONE
TZID:Europe/Berlin
X-LIC-LOCATION:Europe/Berlin
BEGIN:DAYLIGHT
DTSTART:20240331T030000
TZOFFSETFROM:+0100
TZOFFSETTO:+0200
TZNAME:CEST
END:DAYLIGHT
END:VTIMEZONE
END:VCALENDAR