BEGIN:VCALENDAR
VERSION:2.0
PRODID:-//wp-events-plugin.com//7.2.3.1//EN
TZID:Europe/Berlin
X-WR-TIMEZONE:Europe/Berlin
BEGIN:VEVENT
UID:4027@worldcleanupday.de
DTSTART;TZID=Europe/Berlin;VALUE=DATE:20230821
DTEND;TZID=Europe/Berlin;VALUE=DATE:20230909
DTSTAMP:20230615T081621Z
URL:https://www.worldcleanupday.de/veranstaltungen/bugi-raeumt-den-strand-
 auf-hamburg/
SUMMARY:Bugi räumt den Strand auf! (Hamburg)
DESCRIPTION:World Cleanup macht Schule. Wir wollen mit unseren zwei neunten
  Klassen Anfang nächsten Schuljahres den Elbstrand zwischen den Wracks un
 d dem alten Leuchtturm aufräumen.\n\nAm Elbstrand ist im Sommer richtig v
 iel los und nach den Sommerferien bestimmt Einiges aufzuräumen: Alte Gril
 ls\, Flaschen\, Scherben\, Müll etc. liegen häufig im Weg.\n\nValentino 
 Wilimzig und die Klassen 9a und 9b\n\n&nbsp\;\n\n#worldcleanupmachtschule 
 #letsdoitgermany
ATTACH;FMTTYPE=image/jpeg:https://www.worldcleanupday.de/wp-content/upload
 s/2023/05/2023_WCU_Schule-Kinder_Strand_bueckend.jpg
CATEGORIES:Schul-Cleanup
LOCATION:Elbstrand Blankenese\, Strandweg 85\, Blankenese\, Hamburg\, 22587
 \, Hamburg\, Deutschland
GEO:53.559792;9.789019
X-APPLE-STRUCTURED-LOCATION;VALUE=URI;X-ADDRESS=Strandweg 85\, Blankenese\,
  Hamburg\, 22587\, Hamburg\, Deutschland;X-APPLE-RADIUS=100;X-TITLE=Elbstr
 and Blankenese:geo:53.559792,9.789019
END:VEVENT
BEGIN:VTIMEZONE
TZID:Europe/Berlin
X-LIC-LOCATION:Europe/Berlin
BEGIN:DAYLIGHT
DTSTART:20230326T030000
TZOFFSETFROM:+0100
TZOFFSETTO:+0200
TZNAME:CEST
END:DAYLIGHT
END:VTIMEZONE
END:VCALENDAR