BEGIN:VCALENDAR
VERSION:2.0
PRODID:-//wp-events-plugin.com//7.2.3.1//EN
TZID:Europe/Berlin
X-WR-TIMEZONE:Europe/Berlin
BEGIN:VEVENT
UID:9134@worldcleanupday.de
DTSTART;TZID=Europe/Berlin:20250919T133000
DTEND;TZID=Europe/Berlin:20250919T143000
DTSTAMP:20250828T082139Z
URL:https://www.worldcleanupday.de/veranstaltungen/bueren-raeumt-auf-nrw-2
 /
SUMMARY:Büren räumt auf! (NRW)
DESCRIPTION:Die Welt räumt auf. Wir machen mit!\n\n&nbsp\;\n\n#worldcleanu
 pday2025
ATTACH;FMTTYPE=image/jpeg:https://www.worldcleanupday.de/wp-content/upload
 s/2024/11/2025_WCD_NRW_11.jpg
CATEGORIES:Cleanup,World Cleanup Day
LOCATION:Almeauen\, Mühlenstraße\, Büren\, NRW\, 33142\, Deutschland
GEO:51.553484;8.557368
X-APPLE-STRUCTURED-LOCATION;VALUE=URI;X-ADDRESS=Mühlenstraße\, Büren\, N
 RW\, 33142\, Deutschland;X-APPLE-RADIUS=100;X-TITLE=Almeauen:geo:51.553484
 ,8.557368
END:VEVENT
BEGIN:VTIMEZONE
TZID:Europe/Berlin
X-LIC-LOCATION:Europe/Berlin
BEGIN:DAYLIGHT
DTSTART:20250330T030000
TZOFFSETFROM:+0100
TZOFFSETTO:+0200
TZNAME:CEST
END:DAYLIGHT
END:VTIMEZONE
END:VCALENDAR