BEGIN:VCALENDAR
VERSION:2.0
PRODID:-//wp-events-plugin.com//7.2.3.1//EN
TZID:Europe/Berlin
X-WR-TIMEZONE:Europe/Berlin
BEGIN:VEVENT
UID:3454@worldcleanupday.de
DTSTART;TZID=Europe/Berlin:20220917T140000
DTEND;TZID=Europe/Berlin:20220917T170000
DTSTAMP:20220911T152902Z
URL:https://www.worldcleanupday.de/veranstaltungen/altenstaedter-cleanupda
 y-hessen/
SUMMARY:Altenstädter cleanupday (Hessen)
DESCRIPTION:Wir sind dabei am World Cleanup Day - 17. September 2022.\n\n#w
 orldcleanupday #letsdoitgermany #deutschland #hessen
ATTACH;FMTTYPE=image/jpeg:https://www.worldcleanupday.de/wp-content/upload
 s/2022/06/2022_WCD_Bundesland_Hessen_03.jpg
LOCATION:Herrngarten\,  Im Herrngarten 6\, Altenstadt Höchst \, Hessen \, 
 63674\, Deutschland
GEO:50.267319;8.930935
X-APPLE-STRUCTURED-LOCATION;VALUE=URI;X-ADDRESS= Im Herrngarten 6\, Altenst
 adt Höchst \, Hessen \, 63674\, Deutschland;X-APPLE-RADIUS=100;X-TITLE=He
 rrngarten:geo:50.267319,8.930935
END:VEVENT
BEGIN:VTIMEZONE
TZID:Europe/Berlin
X-LIC-LOCATION:Europe/Berlin
BEGIN:DAYLIGHT
DTSTART:20220327T030000
TZOFFSETFROM:+0100
TZOFFSETTO:+0200
TZNAME:CEST
END:DAYLIGHT
END:VTIMEZONE
END:VCALENDAR