BEGIN:VCALENDAR
VERSION:2.0
PRODID:-//wp-events-plugin.com//7.2.3.1//EN
TZID:Europe/Berlin
X-WR-TIMEZONE:Europe/Berlin
BEGIN:VEVENT
UID:9750@worldcleanupday.de
DTSTART;TZID=Europe/Berlin:20250920T090000
DTEND;TZID=Europe/Berlin:20250920T103000
DTSTAMP:20250917T095354Z
URL:https://www.worldcleanupday.de/veranstaltungen/aichacher-ramadama-2025
 -bayern/
SUMMARY:Aichacher Ramadama 2025 (Bayern)
DESCRIPTION:RAMADAMA Aktion in Aichach - Auf der Jagd nach Kippen &amp\; Co
 .!\n\nWir reinigen unseren Stadtplatz und befreien Parkbänke und Spielpl
 ätze von Kippen &amp\; Co.\n\nSaubere Umwelt = Klimaschutz im Kleinen!
ATTACH;FMTTYPE=image/jpeg:https://www.worldcleanupday.de/wp-content/upload
 s/2025/09/signal-2025-09-05-12-26-04-284-1.jpg
CATEGORIES:World Cleanup Day
LOCATION:Grüne Garage\, Martinstr. 1 (im Hinterhof über Gerhauser Str.) \
 , Aichach \, Bayern \, 86551\, Deutschland
GEO:48.460604;11.133395
X-APPLE-STRUCTURED-LOCATION;VALUE=URI;X-ADDRESS=Martinstr. 1 (im Hinterhof 
 über Gerhauser Str.) \, Aichach \, Bayern \, 86551\, Deutschland;X-APPLE-
 RADIUS=100;X-TITLE=Grüne Garage:geo:48.460604,11.133395
END:VEVENT
BEGIN:VTIMEZONE
TZID:Europe/Berlin
X-LIC-LOCATION:Europe/Berlin
BEGIN:DAYLIGHT
DTSTART:20250330T030000
TZOFFSETFROM:+0100
TZOFFSETTO:+0200
TZNAME:CEST
END:DAYLIGHT
END:VTIMEZONE
END:VCALENDAR